BEGIN:VCALENDAR
VERSION:2.0
PRODID:-//Massachusetts GOP - ECPv6.15.20//NONSGML v1.0//EN
CALSCALE:GREGORIAN
METHOD:PUBLISH
X-WR-CALNAME:Massachusetts GOP
X-ORIGINAL-URL:https://massgop.com
X-WR-CALDESC:Events for Massachusetts GOP
REFRESH-INTERVAL;VALUE=DURATION:PT1H
X-Robots-Tag:noindex
X-PUBLISHED-TTL:PT1H
BEGIN:VTIMEZONE
TZID:America/New_York
BEGIN:DAYLIGHT
TZOFFSETFROM:-0500
TZOFFSETTO:-0400
TZNAME:EDT
DTSTART:20250309T070000
END:DAYLIGHT
BEGIN:STANDARD
TZOFFSETFROM:-0400
TZOFFSETTO:-0500
TZNAME:EST
DTSTART:20251102T060000
END:STANDARD
BEGIN:DAYLIGHT
TZOFFSETFROM:-0500
TZOFFSETTO:-0400
TZNAME:EDT
DTSTART:20260308T070000
END:DAYLIGHT
BEGIN:STANDARD
TZOFFSETFROM:-0400
TZOFFSETTO:-0500
TZNAME:EST
DTSTART:20261101T060000
END:STANDARD
BEGIN:DAYLIGHT
TZOFFSETFROM:-0500
TZOFFSETTO:-0400
TZNAME:EDT
DTSTART:20270314T070000
END:DAYLIGHT
BEGIN:STANDARD
TZOFFSETFROM:-0400
TZOFFSETTO:-0500
TZNAME:EST
DTSTART:20271107T060000
END:STANDARD
END:VTIMEZONE
BEGIN:VEVENT
DTSTART;TZID=America/New_York:20260421T170000
DTEND;TZID=America/New_York:20260421T200000
DTSTAMP:20260423T192401
CREATED:20260420T123929Z
LAST-MODIFIED:20260420T123929Z
UID:10001607-1776790800-1776801600@massgop.com
SUMMARY:Micah Q Jones for Congress James Pub Essex Happy Hour
DESCRIPTION:MA-06\, it’s time for a new direction! Join Ruth Pereen for a Happy Hour with Micah Jones for Congress\nCome out\, grab a drink\, and meet Micah\nRSVP: finance@micahqjones.com\nIf able\, your contribution of any amount\, is greatly appreciated! https://secure.anedot.com/micahqjones/421\nMicah Q. Jones is a U.S. Army veteran\, attorney\, husband\, and father running to represent Massachusetts’ Sixth Congressional District (MA-6)\, driven by his deep love for the country\, the Commonwealth\, and the greater communities of the North Shore and Merrimack Valley that make up the MA-6.\nLearn more about Micah: micahqjones.com
URL:https://massgop.com/event/micah-q-jones-for-congress-james-pub-essex-happy-hour/2026-04-21/2/
LOCATION:The James Pub and Provisions\, 55 Main St.\, Essex\, MA\, 01929\, United States
ATTACH;FMTTYPE=image/jpeg:https://massgop.com/wp-content/uploads/2026/04/4.21.2026-JamesPub.jpg
ORGANIZER;CN="Micah Q Jones for Congress":MAILTO:info@micahqjones.com
END:VEVENT
BEGIN:VEVENT
DTSTART;TZID=America/New_York:20260421T080000
DTEND;TZID=America/New_York:20260421T170000
DTSTAMP:20260423T192401
CREATED:20260420T123929Z
LAST-MODIFIED:20260420T123929Z
UID:10001606-1776758400-1776790800@massgop.com
SUMMARY:Micah Q Jones for Congress James Pub Essex Happy Hour
DESCRIPTION:MA-06\, it’s time for a new direction! Join Ruth Pereen for a Happy Hour with Micah Jones for Congress\nCome out\, grab a drink\, and meet Micah\nRSVP: finance@micahqjones.com\nIf able\, your contribution of any amount\, is greatly appreciated! https://secure.anedot.com/micahqjones/421\nMicah Q. Jones is a U.S. Army veteran\, attorney\, husband\, and father running to represent Massachusetts’ Sixth Congressional District (MA-6)\, driven by his deep love for the country\, the Commonwealth\, and the greater communities of the North Shore and Merrimack Valley that make up the MA-6.\nLearn more about Micah: micahqjones.com
URL:https://massgop.com/event/micah-q-jones-for-congress-james-pub-essex-happy-hour/2026-04-21/1/
LOCATION:The James Pub and Provisions\, 55 Main St.\, Essex\, MA\, 01929\, United States
ATTACH;FMTTYPE=image/jpeg:https://massgop.com/wp-content/uploads/2026/04/4.21.2026-JamesPub.jpg
ORGANIZER;CN="Micah Q Jones for Congress":MAILTO:info@micahqjones.com
END:VEVENT
END:VCALENDAR