BEGIN:VCALENDAR
VERSION:2.0
PRODID:-//Massachusetts GOP - ECPv6.15.20//NONSGML v1.0//EN
CALSCALE:GREGORIAN
METHOD:PUBLISH
X-ORIGINAL-URL:https://massgop.com
X-WR-CALDESC:Events for Massachusetts GOP
REFRESH-INTERVAL;VALUE=DURATION:PT1H
X-Robots-Tag:noindex
X-PUBLISHED-TTL:PT1H
BEGIN:VTIMEZONE
TZID:America/New_York
BEGIN:DAYLIGHT
TZOFFSETFROM:-0500
TZOFFSETTO:-0400
TZNAME:EDT
DTSTART:20250309T070000
END:DAYLIGHT
BEGIN:STANDARD
TZOFFSETFROM:-0400
TZOFFSETTO:-0500
TZNAME:EST
DTSTART:20251102T060000
END:STANDARD
BEGIN:DAYLIGHT
TZOFFSETFROM:-0500
TZOFFSETTO:-0400
TZNAME:EDT
DTSTART:20260308T070000
END:DAYLIGHT
BEGIN:STANDARD
TZOFFSETFROM:-0400
TZOFFSETTO:-0500
TZNAME:EST
DTSTART:20261101T060000
END:STANDARD
BEGIN:DAYLIGHT
TZOFFSETFROM:-0500
TZOFFSETTO:-0400
TZNAME:EDT
DTSTART:20270314T070000
END:DAYLIGHT
BEGIN:STANDARD
TZOFFSETFROM:-0400
TZOFFSETTO:-0500
TZNAME:EST
DTSTART:20271107T060000
END:STANDARD
END:VTIMEZONE
BEGIN:VEVENT
DTSTART;TZID=America/New_York:20260415T180000
DTEND;TZID=America/New_York:20260415T200000
DTSTAMP:20260425T230614
CREATED:20260420T123747Z
LAST-MODIFIED:20260420T123747Z
UID:10001525-1776276000-1776283200@massgop.com
SUMMARY:Campaign Party With Manny Silva
DESCRIPTION:Take the edge off tax day at a campaign party with Manny Silva\, Republican for State Senate in the First Bristol and Plymouth District.\nWhat’s worth celebrating on tax day? Knowing next year at this time\, your taxes WILL be lower if Manny Silva gets elected!
URL:https://massgop.com/event/campaign-party-with-manny-silva/
LOCATION:Red Hand Brewing Co.\, 348 Bedford St.\, Lakeville\, MA\, 02347\, United States
ATTACH;FMTTYPE=image/jpeg:https://massgop.com/wp-content/uploads/2026/04/CampaignPartyMannySilva.jpg
ORGANIZER;CN="The Committee to Elect Manny Silva":MAILTO:silvaforsenator@gmail.com
END:VEVENT
END:VCALENDAR