BEGIN:VCALENDAR
VERSION:2.0
PRODID:-//Massachusetts GOP - ECPv6.15.20//NONSGML v1.0//EN
CALSCALE:GREGORIAN
METHOD:PUBLISH
X-WR-CALNAME:Massachusetts GOP
X-ORIGINAL-URL:https://massgop.com
X-WR-CALDESC:Events for Massachusetts GOP
REFRESH-INTERVAL;VALUE=DURATION:PT1H
X-Robots-Tag:noindex
X-PUBLISHED-TTL:PT1H
BEGIN:VTIMEZONE
TZID:America/New_York
BEGIN:DAYLIGHT
TZOFFSETFROM:-0500
TZOFFSETTO:-0400
TZNAME:EDT
DTSTART:20250309T070000
END:DAYLIGHT
BEGIN:STANDARD
TZOFFSETFROM:-0400
TZOFFSETTO:-0500
TZNAME:EST
DTSTART:20251102T060000
END:STANDARD
BEGIN:DAYLIGHT
TZOFFSETFROM:-0500
TZOFFSETTO:-0400
TZNAME:EDT
DTSTART:20260308T070000
END:DAYLIGHT
BEGIN:STANDARD
TZOFFSETFROM:-0400
TZOFFSETTO:-0500
TZNAME:EST
DTSTART:20261101T060000
END:STANDARD
BEGIN:DAYLIGHT
TZOFFSETFROM:-0500
TZOFFSETTO:-0400
TZNAME:EDT
DTSTART:20270314T070000
END:DAYLIGHT
BEGIN:STANDARD
TZOFFSETFROM:-0400
TZOFFSETTO:-0500
TZNAME:EST
DTSTART:20271107T060000
END:STANDARD
END:VTIMEZONE
BEGIN:VEVENT
DTSTART;TZID=America/New_York:20260419T140000
DTEND;TZID=America/New_York:20260419T170000
DTSTAMP:20260424T105356
CREATED:20260420T123926Z
LAST-MODIFIED:20260420T123926Z
UID:10001541-1776607200-1776618000@massgop.com
SUMMARY:Signature Drive and Meet and Greet Anne Manning Martin for LG!
DESCRIPTION:Come meet Anne\, sign her nomination papers at Metro Bowl in Peabody!
URL:https://massgop.com/event/signature-drive-and-meet-and-greet-anne-manning-martin-for-lg/
LOCATION:Metro Bowl\, 63 Foster at\, Peabody\, 01960\, United States
ATTACH;FMTTYPE=image/jpeg:https://massgop.com/wp-content/uploads/2026/04/signal-2026-04-08-111500.jpeg
END:VEVENT
END:VCALENDAR