BEGIN:VCALENDAR
VERSION:2.0
PRODID:-//Massachusetts GOP - ECPv6.15.20//NONSGML v1.0//EN
CALSCALE:GREGORIAN
METHOD:PUBLISH
X-WR-CALNAME:Massachusetts GOP
X-ORIGINAL-URL:https://massgop.com
X-WR-CALDESC:Events for Massachusetts GOP
REFRESH-INTERVAL;VALUE=DURATION:PT1H
X-Robots-Tag:noindex
X-PUBLISHED-TTL:PT1H
BEGIN:VTIMEZONE
TZID:America/New_York
BEGIN:DAYLIGHT
TZOFFSETFROM:-0500
TZOFFSETTO:-0400
TZNAME:EDT
DTSTART:20250309T070000
END:DAYLIGHT
BEGIN:STANDARD
TZOFFSETFROM:-0400
TZOFFSETTO:-0500
TZNAME:EST
DTSTART:20251102T060000
END:STANDARD
BEGIN:DAYLIGHT
TZOFFSETFROM:-0500
TZOFFSETTO:-0400
TZNAME:EDT
DTSTART:20260308T070000
END:DAYLIGHT
BEGIN:STANDARD
TZOFFSETFROM:-0400
TZOFFSETTO:-0500
TZNAME:EST
DTSTART:20261101T060000
END:STANDARD
BEGIN:DAYLIGHT
TZOFFSETFROM:-0500
TZOFFSETTO:-0400
TZNAME:EDT
DTSTART:20270314T070000
END:DAYLIGHT
BEGIN:STANDARD
TZOFFSETFROM:-0400
TZOFFSETTO:-0500
TZNAME:EST
DTSTART:20271107T060000
END:STANDARD
END:VTIMEZONE
BEGIN:VEVENT
DTSTART;TZID=America/New_York:20260318T180000
DTEND;TZID=America/New_York:20260318T200000
DTSTAMP:20260425T231244
CREATED:20260309T031703Z
LAST-MODIFIED:20260309T031703Z
UID:10001496-1773856800-1773864000@massgop.com
SUMMARY:Wee Bit O' Fun in Support of Senator Kelly Dooner
DESCRIPTION:Please join State Senator Kelly Dooner for a Wee Bit O’ Fun….. \nBrack’s Grill and Tap\n2097 Bay Street\nTaunton\, MA 02780 \nWednesday\,March 18th\n6:00 pm to 8:00 pm \nSuggested Donations:\n$35 Friend\n$70 Loyal Friend\n$100 Loyal Supporter\n$250 Patron\n$500 Host\n$1000 Executive Sponsor \nRSVP: Send Personal Checks payable to\nThe Dooner Committee\n311 Scadding Street\nTaunton\, MA 02780 \nOr donate online at\nhttps://secure.winred.com/kelly-dooner/website
URL:https://massgop.com/event/wee-bit-o-fun-in-support-of-senator-kelly-dooner/
LOCATION:Brack’s Grill and Tap\, 2097 Bay Street Taunton\, MA 02780\, Taunton\, MA\, 02780\, United States
ATTACH;FMTTYPE=image/jpeg:https://massgop.com/wp-content/uploads/2026/03/March-2026-Event-scaled.jpg
END:VEVENT
END:VCALENDAR