BEGIN:VCALENDAR
VERSION:2.0
PRODID:-//Massachusetts GOP - ECPv6.15.20//NONSGML v1.0//EN
CALSCALE:GREGORIAN
METHOD:PUBLISH
X-ORIGINAL-URL:https://massgop.com
X-WR-CALDESC:Events for Massachusetts GOP
REFRESH-INTERVAL;VALUE=DURATION:PT1H
X-Robots-Tag:noindex
X-PUBLISHED-TTL:PT1H
BEGIN:VTIMEZONE
TZID:America/New_York
BEGIN:DAYLIGHT
TZOFFSETFROM:-0500
TZOFFSETTO:-0400
TZNAME:EDT
DTSTART:20290311T070000
END:DAYLIGHT
BEGIN:STANDARD
TZOFFSETFROM:-0400
TZOFFSETTO:-0500
TZNAME:EST
DTSTART:20291104T060000
END:STANDARD
BEGIN:DAYLIGHT
TZOFFSETFROM:-0500
TZOFFSETTO:-0400
TZNAME:EDT
DTSTART:20300310T070000
END:DAYLIGHT
BEGIN:STANDARD
TZOFFSETFROM:-0400
TZOFFSETTO:-0500
TZNAME:EST
DTSTART:20301103T060000
END:STANDARD
BEGIN:DAYLIGHT
TZOFFSETFROM:-0500
TZOFFSETTO:-0400
TZNAME:EDT
DTSTART:20310309T070000
END:DAYLIGHT
BEGIN:STANDARD
TZOFFSETFROM:-0400
TZOFFSETTO:-0500
TZNAME:EST
DTSTART:20311102T060000
END:STANDARD
BEGIN:DAYLIGHT
TZOFFSETFROM:-0500
TZOFFSETTO:-0400
TZNAME:EDT
DTSTART:20320314T070000
END:DAYLIGHT
BEGIN:STANDARD
TZOFFSETFROM:-0400
TZOFFSETTO:-0500
TZNAME:EST
DTSTART:20321107T060000
END:STANDARD
END:VTIMEZONE
BEGIN:VEVENT
DTSTART;TZID=America/New_York:20300516T180000
DTEND;TZID=America/New_York:20300516T200000
DTSTAMP:20260423T223738
CREATED:20260420T123927Z
LAST-MODIFIED:20260420T123927Z
UID:10001594-1905184800-1905192000@massgop.com
SUMMARY:Brockton Republican City Committee – Thirsty Third Thursday
DESCRIPTION:Once a month\, we bring it all together. \nThirsty Third Thursday is where the Brockton Republican City Committee meets\, builds\, and grows—one room\, one night\, one movement. \nWe kick things off at 6:00 PM with our Executive Board Meeting\, where leadership gets aligned and the real planning happens. \nAt 6:30 PM\, we break out into Ward Meetings—this is where things get local. You’ll meet people from your neighborhood\, talk about what’s actually going on in your ward\, and figure out how to make an impact right where you live. \nThen at 7:00 PM\, we open the doors wide for our Information Session. This is for everyone—whether you’ve been involved for years or you’re just curious and checking things out for the first time. \nNo pressure. No speeches you have to sit through. Just real conversations\, real people\, and a chance to be part of something that’s actually building. \nAnd yes—there’s usually pizza\, drinks\, and a good crowd. \nIf you’ve been thinking about getting involved\, this is where you start. \nCome by. Bring a friend. Stay for as long as you want. \nThis is how we build Brockton First—together.
URL:https://massgop.com/event/brockton-republican-city-committee-thirsty-third-thursday/2030-05-16/
LOCATION:235 East Ashland St\, Brockton MA\, 235 East Ashland St\, Brockton MA\, Brockton\, MA\, 02302\, United States
ATTACH;FMTTYPE=image/png:https://massgop.com/wp-content/uploads/2026/04/F065B647-2E23-41B5-BA63-8CE2F235D17C.png
END:VEVENT
BEGIN:VEVENT
DTSTART;TZID=America/New_York:20300620T180000
DTEND;TZID=America/New_York:20300620T200000
DTSTAMP:20260423T223738
CREATED:20260420T123927Z
LAST-MODIFIED:20260420T123927Z
UID:10001595-1908208800-1908216000@massgop.com
SUMMARY:Brockton Republican City Committee – Thirsty Third Thursday
DESCRIPTION:Once a month\, we bring it all together. \nThirsty Third Thursday is where the Brockton Republican City Committee meets\, builds\, and grows—one room\, one night\, one movement. \nWe kick things off at 6:00 PM with our Executive Board Meeting\, where leadership gets aligned and the real planning happens. \nAt 6:30 PM\, we break out into Ward Meetings—this is where things get local. You’ll meet people from your neighborhood\, talk about what’s actually going on in your ward\, and figure out how to make an impact right where you live. \nThen at 7:00 PM\, we open the doors wide for our Information Session. This is for everyone—whether you’ve been involved for years or you’re just curious and checking things out for the first time. \nNo pressure. No speeches you have to sit through. Just real conversations\, real people\, and a chance to be part of something that’s actually building. \nAnd yes—there’s usually pizza\, drinks\, and a good crowd. \nIf you’ve been thinking about getting involved\, this is where you start. \nCome by. Bring a friend. Stay for as long as you want. \nThis is how we build Brockton First—together.
URL:https://massgop.com/event/brockton-republican-city-committee-thirsty-third-thursday/2030-06-20/
LOCATION:235 East Ashland St\, Brockton MA\, 235 East Ashland St\, Brockton MA\, Brockton\, MA\, 02302\, United States
ATTACH;FMTTYPE=image/png:https://massgop.com/wp-content/uploads/2026/04/F065B647-2E23-41B5-BA63-8CE2F235D17C.png
END:VEVENT
BEGIN:VEVENT
DTSTART;TZID=America/New_York:20300718T180000
DTEND;TZID=America/New_York:20300718T200000
DTSTAMP:20260423T223738
CREATED:20260420T123927Z
LAST-MODIFIED:20260420T123927Z
UID:10001596-1910628000-1910635200@massgop.com
SUMMARY:Brockton Republican City Committee – Thirsty Third Thursday
DESCRIPTION:Once a month\, we bring it all together. \nThirsty Third Thursday is where the Brockton Republican City Committee meets\, builds\, and grows—one room\, one night\, one movement. \nWe kick things off at 6:00 PM with our Executive Board Meeting\, where leadership gets aligned and the real planning happens. \nAt 6:30 PM\, we break out into Ward Meetings—this is where things get local. You’ll meet people from your neighborhood\, talk about what’s actually going on in your ward\, and figure out how to make an impact right where you live. \nThen at 7:00 PM\, we open the doors wide for our Information Session. This is for everyone—whether you’ve been involved for years or you’re just curious and checking things out for the first time. \nNo pressure. No speeches you have to sit through. Just real conversations\, real people\, and a chance to be part of something that’s actually building. \nAnd yes—there’s usually pizza\, drinks\, and a good crowd. \nIf you’ve been thinking about getting involved\, this is where you start. \nCome by. Bring a friend. Stay for as long as you want. \nThis is how we build Brockton First—together.
URL:https://massgop.com/event/brockton-republican-city-committee-thirsty-third-thursday/2030-07-18/
LOCATION:235 East Ashland St\, Brockton MA\, 235 East Ashland St\, Brockton MA\, Brockton\, MA\, 02302\, United States
ATTACH;FMTTYPE=image/png:https://massgop.com/wp-content/uploads/2026/04/F065B647-2E23-41B5-BA63-8CE2F235D17C.png
END:VEVENT
BEGIN:VEVENT
DTSTART;TZID=America/New_York:20300815T180000
DTEND;TZID=America/New_York:20300815T200000
DTSTAMP:20260423T223738
CREATED:20260420T123927Z
LAST-MODIFIED:20260420T123927Z
UID:10001597-1913047200-1913054400@massgop.com
SUMMARY:Brockton Republican City Committee – Thirsty Third Thursday
DESCRIPTION:Once a month\, we bring it all together. \nThirsty Third Thursday is where the Brockton Republican City Committee meets\, builds\, and grows—one room\, one night\, one movement. \nWe kick things off at 6:00 PM with our Executive Board Meeting\, where leadership gets aligned and the real planning happens. \nAt 6:30 PM\, we break out into Ward Meetings—this is where things get local. You’ll meet people from your neighborhood\, talk about what’s actually going on in your ward\, and figure out how to make an impact right where you live. \nThen at 7:00 PM\, we open the doors wide for our Information Session. This is for everyone—whether you’ve been involved for years or you’re just curious and checking things out for the first time. \nNo pressure. No speeches you have to sit through. Just real conversations\, real people\, and a chance to be part of something that’s actually building. \nAnd yes—there’s usually pizza\, drinks\, and a good crowd. \nIf you’ve been thinking about getting involved\, this is where you start. \nCome by. Bring a friend. Stay for as long as you want. \nThis is how we build Brockton First—together.
URL:https://massgop.com/event/brockton-republican-city-committee-thirsty-third-thursday/2030-08-15/
LOCATION:235 East Ashland St\, Brockton MA\, 235 East Ashland St\, Brockton MA\, Brockton\, MA\, 02302\, United States
ATTACH;FMTTYPE=image/png:https://massgop.com/wp-content/uploads/2026/04/F065B647-2E23-41B5-BA63-8CE2F235D17C.png
END:VEVENT
BEGIN:VEVENT
DTSTART;TZID=America/New_York:20300919T180000
DTEND;TZID=America/New_York:20300919T200000
DTSTAMP:20260423T223738
CREATED:20260420T123927Z
LAST-MODIFIED:20260420T123927Z
UID:10001598-1916071200-1916078400@massgop.com
SUMMARY:Brockton Republican City Committee – Thirsty Third Thursday
DESCRIPTION:Once a month\, we bring it all together. \nThirsty Third Thursday is where the Brockton Republican City Committee meets\, builds\, and grows—one room\, one night\, one movement. \nWe kick things off at 6:00 PM with our Executive Board Meeting\, where leadership gets aligned and the real planning happens. \nAt 6:30 PM\, we break out into Ward Meetings—this is where things get local. You’ll meet people from your neighborhood\, talk about what’s actually going on in your ward\, and figure out how to make an impact right where you live. \nThen at 7:00 PM\, we open the doors wide for our Information Session. This is for everyone—whether you’ve been involved for years or you’re just curious and checking things out for the first time. \nNo pressure. No speeches you have to sit through. Just real conversations\, real people\, and a chance to be part of something that’s actually building. \nAnd yes—there’s usually pizza\, drinks\, and a good crowd. \nIf you’ve been thinking about getting involved\, this is where you start. \nCome by. Bring a friend. Stay for as long as you want. \nThis is how we build Brockton First—together.
URL:https://massgop.com/event/brockton-republican-city-committee-thirsty-third-thursday/2030-09-19/
LOCATION:235 East Ashland St\, Brockton MA\, 235 East Ashland St\, Brockton MA\, Brockton\, MA\, 02302\, United States
ATTACH;FMTTYPE=image/png:https://massgop.com/wp-content/uploads/2026/04/F065B647-2E23-41B5-BA63-8CE2F235D17C.png
END:VEVENT
BEGIN:VEVENT
DTSTART;TZID=America/New_York:20301017T180000
DTEND;TZID=America/New_York:20301017T200000
DTSTAMP:20260423T223738
CREATED:20260420T123927Z
LAST-MODIFIED:20260420T123927Z
UID:10001599-1918490400-1918497600@massgop.com
SUMMARY:Brockton Republican City Committee – Thirsty Third Thursday
DESCRIPTION:Once a month\, we bring it all together. \nThirsty Third Thursday is where the Brockton Republican City Committee meets\, builds\, and grows—one room\, one night\, one movement. \nWe kick things off at 6:00 PM with our Executive Board Meeting\, where leadership gets aligned and the real planning happens. \nAt 6:30 PM\, we break out into Ward Meetings—this is where things get local. You’ll meet people from your neighborhood\, talk about what’s actually going on in your ward\, and figure out how to make an impact right where you live. \nThen at 7:00 PM\, we open the doors wide for our Information Session. This is for everyone—whether you’ve been involved for years or you’re just curious and checking things out for the first time. \nNo pressure. No speeches you have to sit through. Just real conversations\, real people\, and a chance to be part of something that’s actually building. \nAnd yes—there’s usually pizza\, drinks\, and a good crowd. \nIf you’ve been thinking about getting involved\, this is where you start. \nCome by. Bring a friend. Stay for as long as you want. \nThis is how we build Brockton First—together.
URL:https://massgop.com/event/brockton-republican-city-committee-thirsty-third-thursday/2030-10-17/
LOCATION:235 East Ashland St\, Brockton MA\, 235 East Ashland St\, Brockton MA\, Brockton\, MA\, 02302\, United States
ATTACH;FMTTYPE=image/png:https://massgop.com/wp-content/uploads/2026/04/F065B647-2E23-41B5-BA63-8CE2F235D17C.png
END:VEVENT
BEGIN:VEVENT
DTSTART;TZID=America/New_York:20301121T180000
DTEND;TZID=America/New_York:20301121T200000
DTSTAMP:20260423T223738
CREATED:20260420T123927Z
LAST-MODIFIED:20260420T123927Z
UID:10001600-1921514400-1921521600@massgop.com
SUMMARY:Brockton Republican City Committee – Thirsty Third Thursday
DESCRIPTION:Once a month\, we bring it all together. \nThirsty Third Thursday is where the Brockton Republican City Committee meets\, builds\, and grows—one room\, one night\, one movement. \nWe kick things off at 6:00 PM with our Executive Board Meeting\, where leadership gets aligned and the real planning happens. \nAt 6:30 PM\, we break out into Ward Meetings—this is where things get local. You’ll meet people from your neighborhood\, talk about what’s actually going on in your ward\, and figure out how to make an impact right where you live. \nThen at 7:00 PM\, we open the doors wide for our Information Session. This is for everyone—whether you’ve been involved for years or you’re just curious and checking things out for the first time. \nNo pressure. No speeches you have to sit through. Just real conversations\, real people\, and a chance to be part of something that’s actually building. \nAnd yes—there’s usually pizza\, drinks\, and a good crowd. \nIf you’ve been thinking about getting involved\, this is where you start. \nCome by. Bring a friend. Stay for as long as you want. \nThis is how we build Brockton First—together.
URL:https://massgop.com/event/brockton-republican-city-committee-thirsty-third-thursday/2030-11-21/
LOCATION:235 East Ashland St\, Brockton MA\, 235 East Ashland St\, Brockton MA\, Brockton\, MA\, 02302\, United States
ATTACH;FMTTYPE=image/png:https://massgop.com/wp-content/uploads/2026/04/F065B647-2E23-41B5-BA63-8CE2F235D17C.png
END:VEVENT
BEGIN:VEVENT
DTSTART;TZID=America/New_York:20301219T180000
DTEND;TZID=America/New_York:20301219T200000
DTSTAMP:20260423T223738
CREATED:20260420T123927Z
LAST-MODIFIED:20260420T123927Z
UID:10001601-1923933600-1923940800@massgop.com
SUMMARY:Brockton Republican City Committee – Thirsty Third Thursday
DESCRIPTION:Once a month\, we bring it all together. \nThirsty Third Thursday is where the Brockton Republican City Committee meets\, builds\, and grows—one room\, one night\, one movement. \nWe kick things off at 6:00 PM with our Executive Board Meeting\, where leadership gets aligned and the real planning happens. \nAt 6:30 PM\, we break out into Ward Meetings—this is where things get local. You’ll meet people from your neighborhood\, talk about what’s actually going on in your ward\, and figure out how to make an impact right where you live. \nThen at 7:00 PM\, we open the doors wide for our Information Session. This is for everyone—whether you’ve been involved for years or you’re just curious and checking things out for the first time. \nNo pressure. No speeches you have to sit through. Just real conversations\, real people\, and a chance to be part of something that’s actually building. \nAnd yes—there’s usually pizza\, drinks\, and a good crowd. \nIf you’ve been thinking about getting involved\, this is where you start. \nCome by. Bring a friend. Stay for as long as you want. \nThis is how we build Brockton First—together.
URL:https://massgop.com/event/brockton-republican-city-committee-thirsty-third-thursday/2030-12-19/
LOCATION:235 East Ashland St\, Brockton MA\, 235 East Ashland St\, Brockton MA\, Brockton\, MA\, 02302\, United States
ATTACH;FMTTYPE=image/png:https://massgop.com/wp-content/uploads/2026/04/F065B647-2E23-41B5-BA63-8CE2F235D17C.png
END:VEVENT
BEGIN:VEVENT
DTSTART;TZID=America/New_York:20310116T180000
DTEND;TZID=America/New_York:20310116T200000
DTSTAMP:20260423T223738
CREATED:20260420T123927Z
LAST-MODIFIED:20260420T123927Z
UID:10001602-1926352800-1926360000@massgop.com
SUMMARY:Brockton Republican City Committee – Thirsty Third Thursday
DESCRIPTION:Once a month\, we bring it all together. \nThirsty Third Thursday is where the Brockton Republican City Committee meets\, builds\, and grows—one room\, one night\, one movement. \nWe kick things off at 6:00 PM with our Executive Board Meeting\, where leadership gets aligned and the real planning happens. \nAt 6:30 PM\, we break out into Ward Meetings—this is where things get local. You’ll meet people from your neighborhood\, talk about what’s actually going on in your ward\, and figure out how to make an impact right where you live. \nThen at 7:00 PM\, we open the doors wide for our Information Session. This is for everyone—whether you’ve been involved for years or you’re just curious and checking things out for the first time. \nNo pressure. No speeches you have to sit through. Just real conversations\, real people\, and a chance to be part of something that’s actually building. \nAnd yes—there’s usually pizza\, drinks\, and a good crowd. \nIf you’ve been thinking about getting involved\, this is where you start. \nCome by. Bring a friend. Stay for as long as you want. \nThis is how we build Brockton First—together.
URL:https://massgop.com/event/brockton-republican-city-committee-thirsty-third-thursday/2031-01-16/
LOCATION:235 East Ashland St\, Brockton MA\, 235 East Ashland St\, Brockton MA\, Brockton\, MA\, 02302\, United States
ATTACH;FMTTYPE=image/png:https://massgop.com/wp-content/uploads/2026/04/F065B647-2E23-41B5-BA63-8CE2F235D17C.png
END:VEVENT
BEGIN:VEVENT
DTSTART;TZID=America/New_York:20310220T180000
DTEND;TZID=America/New_York:20310220T200000
DTSTAMP:20260423T223738
CREATED:20260420T123927Z
LAST-MODIFIED:20260420T123927Z
UID:10001603-1929376800-1929384000@massgop.com
SUMMARY:Brockton Republican City Committee – Thirsty Third Thursday
DESCRIPTION:Once a month\, we bring it all together. \nThirsty Third Thursday is where the Brockton Republican City Committee meets\, builds\, and grows—one room\, one night\, one movement. \nWe kick things off at 6:00 PM with our Executive Board Meeting\, where leadership gets aligned and the real planning happens. \nAt 6:30 PM\, we break out into Ward Meetings—this is where things get local. You’ll meet people from your neighborhood\, talk about what’s actually going on in your ward\, and figure out how to make an impact right where you live. \nThen at 7:00 PM\, we open the doors wide for our Information Session. This is for everyone—whether you’ve been involved for years or you’re just curious and checking things out for the first time. \nNo pressure. No speeches you have to sit through. Just real conversations\, real people\, and a chance to be part of something that’s actually building. \nAnd yes—there’s usually pizza\, drinks\, and a good crowd. \nIf you’ve been thinking about getting involved\, this is where you start. \nCome by. Bring a friend. Stay for as long as you want. \nThis is how we build Brockton First—together.
URL:https://massgop.com/event/brockton-republican-city-committee-thirsty-third-thursday/2031-02-20/
LOCATION:235 East Ashland St\, Brockton MA\, 235 East Ashland St\, Brockton MA\, Brockton\, MA\, 02302\, United States
ATTACH;FMTTYPE=image/png:https://massgop.com/wp-content/uploads/2026/04/F065B647-2E23-41B5-BA63-8CE2F235D17C.png
END:VEVENT
BEGIN:VEVENT
DTSTART;TZID=America/New_York:20310320T180000
DTEND;TZID=America/New_York:20310320T200000
DTSTAMP:20260423T223738
CREATED:20260420T123927Z
LAST-MODIFIED:20260420T123927Z
UID:10001604-1931796000-1931803200@massgop.com
SUMMARY:Brockton Republican City Committee – Thirsty Third Thursday
DESCRIPTION:Once a month\, we bring it all together. \nThirsty Third Thursday is where the Brockton Republican City Committee meets\, builds\, and grows—one room\, one night\, one movement. \nWe kick things off at 6:00 PM with our Executive Board Meeting\, where leadership gets aligned and the real planning happens. \nAt 6:30 PM\, we break out into Ward Meetings—this is where things get local. You’ll meet people from your neighborhood\, talk about what’s actually going on in your ward\, and figure out how to make an impact right where you live. \nThen at 7:00 PM\, we open the doors wide for our Information Session. This is for everyone—whether you’ve been involved for years or you’re just curious and checking things out for the first time. \nNo pressure. No speeches you have to sit through. Just real conversations\, real people\, and a chance to be part of something that’s actually building. \nAnd yes—there’s usually pizza\, drinks\, and a good crowd. \nIf you’ve been thinking about getting involved\, this is where you start. \nCome by. Bring a friend. Stay for as long as you want. \nThis is how we build Brockton First—together.
URL:https://massgop.com/event/brockton-republican-city-committee-thirsty-third-thursday/2031-03-20/
LOCATION:235 East Ashland St\, Brockton MA\, 235 East Ashland St\, Brockton MA\, Brockton\, MA\, 02302\, United States
ATTACH;FMTTYPE=image/png:https://massgop.com/wp-content/uploads/2026/04/F065B647-2E23-41B5-BA63-8CE2F235D17C.png
END:VEVENT
BEGIN:VEVENT
DTSTART;TZID=America/New_York:20310417T180000
DTEND;TZID=America/New_York:20310417T200000
DTSTAMP:20260423T223738
CREATED:20260420T123927Z
LAST-MODIFIED:20260420T123927Z
UID:10001605-1934215200-1934222400@massgop.com
SUMMARY:Brockton Republican City Committee – Thirsty Third Thursday
DESCRIPTION:Once a month\, we bring it all together. \nThirsty Third Thursday is where the Brockton Republican City Committee meets\, builds\, and grows—one room\, one night\, one movement. \nWe kick things off at 6:00 PM with our Executive Board Meeting\, where leadership gets aligned and the real planning happens. \nAt 6:30 PM\, we break out into Ward Meetings—this is where things get local. You’ll meet people from your neighborhood\, talk about what’s actually going on in your ward\, and figure out how to make an impact right where you live. \nThen at 7:00 PM\, we open the doors wide for our Information Session. This is for everyone—whether you’ve been involved for years or you’re just curious and checking things out for the first time. \nNo pressure. No speeches you have to sit through. Just real conversations\, real people\, and a chance to be part of something that’s actually building. \nAnd yes—there’s usually pizza\, drinks\, and a good crowd. \nIf you’ve been thinking about getting involved\, this is where you start. \nCome by. Bring a friend. Stay for as long as you want. \nThis is how we build Brockton First—together.
URL:https://massgop.com/event/brockton-republican-city-committee-thirsty-third-thursday/2031-04-17/
LOCATION:235 East Ashland St\, Brockton MA\, 235 East Ashland St\, Brockton MA\, Brockton\, MA\, 02302\, United States
ATTACH;FMTTYPE=image/png:https://massgop.com/wp-content/uploads/2026/04/F065B647-2E23-41B5-BA63-8CE2F235D17C.png
END:VEVENT
END:VCALENDAR