BEGIN:VCALENDAR
VERSION:2.0
PRODID:-//Massachusetts GOP - ECPv6.15.20//NONSGML v1.0//EN
CALSCALE:GREGORIAN
METHOD:PUBLISH
X-ORIGINAL-URL:https://massgop.com
X-WR-CALDESC:Events for Massachusetts GOP
REFRESH-INTERVAL;VALUE=DURATION:PT1H
X-Robots-Tag:noindex
X-PUBLISHED-TTL:PT1H
BEGIN:VTIMEZONE
TZID:America/New_York
BEGIN:DAYLIGHT
TZOFFSETFROM:-0500
TZOFFSETTO:-0400
TZNAME:EDT
DTSTART:20270314T070000
END:DAYLIGHT
BEGIN:STANDARD
TZOFFSETFROM:-0400
TZOFFSETTO:-0500
TZNAME:EST
DTSTART:20271107T060000
END:STANDARD
BEGIN:DAYLIGHT
TZOFFSETFROM:-0500
TZOFFSETTO:-0400
TZNAME:EDT
DTSTART:20280312T070000
END:DAYLIGHT
BEGIN:STANDARD
TZOFFSETFROM:-0400
TZOFFSETTO:-0500
TZNAME:EST
DTSTART:20281105T060000
END:STANDARD
BEGIN:DAYLIGHT
TZOFFSETFROM:-0500
TZOFFSETTO:-0400
TZNAME:EDT
DTSTART:20290311T070000
END:DAYLIGHT
BEGIN:STANDARD
TZOFFSETFROM:-0400
TZOFFSETTO:-0500
TZNAME:EST
DTSTART:20291104T060000
END:STANDARD
BEGIN:DAYLIGHT
TZOFFSETFROM:-0500
TZOFFSETTO:-0400
TZNAME:EDT
DTSTART:20300310T070000
END:DAYLIGHT
BEGIN:STANDARD
TZOFFSETFROM:-0400
TZOFFSETTO:-0500
TZNAME:EST
DTSTART:20301103T060000
END:STANDARD
BEGIN:DAYLIGHT
TZOFFSETFROM:-0500
TZOFFSETTO:-0400
TZNAME:EDT
DTSTART:20310309T070000
END:DAYLIGHT
BEGIN:STANDARD
TZOFFSETFROM:-0400
TZOFFSETTO:-0500
TZNAME:EST
DTSTART:20311102T060000
END:STANDARD
END:VTIMEZONE
BEGIN:VEVENT
DTSTART;TZID=America/New_York:20280517T183000
DTEND;TZID=America/New_York:20280517T194500
DTSTAMP:20260425T181156
CREATED:20250926T155053Z
LAST-MODIFIED:20250926T155053Z
UID:10000942-1842201000-1842205500@massgop.com
SUMMARY:Longmeadow Republican Town Committee Monthly Meeting
DESCRIPTION:The Longmeadow Republican Town Committee holds its regular monthly meeting to discuss community issues\, upcoming events\, and opportunities to get involved in local civic life. Meetings are open to registered Republicans and interested residents. \nResidents are welcome to attend\, share ideas\, and learn more about how the committee supports civic engagement in Longmeadow. \nRepublican Town Committee \nLongmeadow\n“Liberty Lives Here.”
URL:https://massgop.com/event/longmeadow-republican-town-committee-monthly-meeting/2028-05-17/
ATTACH;FMTTYPE=image/png:https://massgop.com/wp-content/uploads/2025/09/LRTC-Logo.png
END:VEVENT
BEGIN:VEVENT
DTSTART;TZID=America/New_York:20280621T183000
DTEND;TZID=America/New_York:20280621T194500
DTSTAMP:20260425T181156
CREATED:20250926T155053Z
LAST-MODIFIED:20250926T155053Z
UID:10000943-1845225000-1845229500@massgop.com
SUMMARY:Longmeadow Republican Town Committee Monthly Meeting
DESCRIPTION:The Longmeadow Republican Town Committee holds its regular monthly meeting to discuss community issues\, upcoming events\, and opportunities to get involved in local civic life. Meetings are open to registered Republicans and interested residents. \nResidents are welcome to attend\, share ideas\, and learn more about how the committee supports civic engagement in Longmeadow. \nRepublican Town Committee \nLongmeadow\n“Liberty Lives Here.”
URL:https://massgop.com/event/longmeadow-republican-town-committee-monthly-meeting/2028-06-21/
ATTACH;FMTTYPE=image/png:https://massgop.com/wp-content/uploads/2025/09/LRTC-Logo.png
END:VEVENT
BEGIN:VEVENT
DTSTART;TZID=America/New_York:20280719T183000
DTEND;TZID=America/New_York:20280719T194500
DTSTAMP:20260425T181156
CREATED:20250926T155053Z
LAST-MODIFIED:20250926T155053Z
UID:10000944-1847644200-1847648700@massgop.com
SUMMARY:Longmeadow Republican Town Committee Monthly Meeting
DESCRIPTION:The Longmeadow Republican Town Committee holds its regular monthly meeting to discuss community issues\, upcoming events\, and opportunities to get involved in local civic life. Meetings are open to registered Republicans and interested residents. \nResidents are welcome to attend\, share ideas\, and learn more about how the committee supports civic engagement in Longmeadow. \nRepublican Town Committee \nLongmeadow\n“Liberty Lives Here.”
URL:https://massgop.com/event/longmeadow-republican-town-committee-monthly-meeting/2028-07-19/
ATTACH;FMTTYPE=image/png:https://massgop.com/wp-content/uploads/2025/09/LRTC-Logo.png
END:VEVENT
BEGIN:VEVENT
DTSTART;TZID=America/New_York:20280816T183000
DTEND;TZID=America/New_York:20280816T194500
DTSTAMP:20260425T181156
CREATED:20250926T155053Z
LAST-MODIFIED:20250926T155053Z
UID:10000945-1850063400-1850067900@massgop.com
SUMMARY:Longmeadow Republican Town Committee Monthly Meeting
DESCRIPTION:The Longmeadow Republican Town Committee holds its regular monthly meeting to discuss community issues\, upcoming events\, and opportunities to get involved in local civic life. Meetings are open to registered Republicans and interested residents. \nResidents are welcome to attend\, share ideas\, and learn more about how the committee supports civic engagement in Longmeadow. \nRepublican Town Committee \nLongmeadow\n“Liberty Lives Here.”
URL:https://massgop.com/event/longmeadow-republican-town-committee-monthly-meeting/2028-08-16/
ATTACH;FMTTYPE=image/png:https://massgop.com/wp-content/uploads/2025/09/LRTC-Logo.png
END:VEVENT
BEGIN:VEVENT
DTSTART;TZID=America/New_York:20280920T183000
DTEND;TZID=America/New_York:20280920T194500
DTSTAMP:20260425T181156
CREATED:20250926T155053Z
LAST-MODIFIED:20250926T155053Z
UID:10000946-1853087400-1853091900@massgop.com
SUMMARY:Longmeadow Republican Town Committee Monthly Meeting
DESCRIPTION:The Longmeadow Republican Town Committee holds its regular monthly meeting to discuss community issues\, upcoming events\, and opportunities to get involved in local civic life. Meetings are open to registered Republicans and interested residents. \nResidents are welcome to attend\, share ideas\, and learn more about how the committee supports civic engagement in Longmeadow. \nRepublican Town Committee \nLongmeadow\n“Liberty Lives Here.”
URL:https://massgop.com/event/longmeadow-republican-town-committee-monthly-meeting/2028-09-20/
ATTACH;FMTTYPE=image/png:https://massgop.com/wp-content/uploads/2025/09/LRTC-Logo.png
END:VEVENT
BEGIN:VEVENT
DTSTART;TZID=America/New_York:20281018T183000
DTEND;TZID=America/New_York:20281018T194500
DTSTAMP:20260425T181156
CREATED:20250926T155053Z
LAST-MODIFIED:20250926T155053Z
UID:10000947-1855506600-1855511100@massgop.com
SUMMARY:Longmeadow Republican Town Committee Monthly Meeting
DESCRIPTION:The Longmeadow Republican Town Committee holds its regular monthly meeting to discuss community issues\, upcoming events\, and opportunities to get involved in local civic life. Meetings are open to registered Republicans and interested residents. \nResidents are welcome to attend\, share ideas\, and learn more about how the committee supports civic engagement in Longmeadow. \nRepublican Town Committee \nLongmeadow\n“Liberty Lives Here.”
URL:https://massgop.com/event/longmeadow-republican-town-committee-monthly-meeting/2028-10-18/
ATTACH;FMTTYPE=image/png:https://massgop.com/wp-content/uploads/2025/09/LRTC-Logo.png
END:VEVENT
BEGIN:VEVENT
DTSTART;TZID=America/New_York:20281115T183000
DTEND;TZID=America/New_York:20281115T194500
DTSTAMP:20260425T181156
CREATED:20250926T155053Z
LAST-MODIFIED:20250926T155053Z
UID:10000948-1857925800-1857930300@massgop.com
SUMMARY:Longmeadow Republican Town Committee Monthly Meeting
DESCRIPTION:The Longmeadow Republican Town Committee holds its regular monthly meeting to discuss community issues\, upcoming events\, and opportunities to get involved in local civic life. Meetings are open to registered Republicans and interested residents. \nResidents are welcome to attend\, share ideas\, and learn more about how the committee supports civic engagement in Longmeadow. \nRepublican Town Committee \nLongmeadow\n“Liberty Lives Here.”
URL:https://massgop.com/event/longmeadow-republican-town-committee-monthly-meeting/2028-11-15/
ATTACH;FMTTYPE=image/png:https://massgop.com/wp-content/uploads/2025/09/LRTC-Logo.png
END:VEVENT
BEGIN:VEVENT
DTSTART;TZID=America/New_York:20281220T183000
DTEND;TZID=America/New_York:20281220T194500
DTSTAMP:20260425T181156
CREATED:20250926T155053Z
LAST-MODIFIED:20250926T155053Z
UID:10000949-1860949800-1860954300@massgop.com
SUMMARY:Longmeadow Republican Town Committee Monthly Meeting
DESCRIPTION:The Longmeadow Republican Town Committee holds its regular monthly meeting to discuss community issues\, upcoming events\, and opportunities to get involved in local civic life. Meetings are open to registered Republicans and interested residents. \nResidents are welcome to attend\, share ideas\, and learn more about how the committee supports civic engagement in Longmeadow. \nRepublican Town Committee \nLongmeadow\n“Liberty Lives Here.”
URL:https://massgop.com/event/longmeadow-republican-town-committee-monthly-meeting/2028-12-20/
ATTACH;FMTTYPE=image/png:https://massgop.com/wp-content/uploads/2025/09/LRTC-Logo.png
END:VEVENT
BEGIN:VEVENT
DTSTART;TZID=America/New_York:20290117T183000
DTEND;TZID=America/New_York:20290117T194500
DTSTAMP:20260425T181156
CREATED:20250926T155053Z
LAST-MODIFIED:20250926T155053Z
UID:10000950-1863369000-1863373500@massgop.com
SUMMARY:Longmeadow Republican Town Committee Monthly Meeting
DESCRIPTION:The Longmeadow Republican Town Committee holds its regular monthly meeting to discuss community issues\, upcoming events\, and opportunities to get involved in local civic life. Meetings are open to registered Republicans and interested residents. \nResidents are welcome to attend\, share ideas\, and learn more about how the committee supports civic engagement in Longmeadow. \nRepublican Town Committee \nLongmeadow\n“Liberty Lives Here.”
URL:https://massgop.com/event/longmeadow-republican-town-committee-monthly-meeting/2029-01-17/
ATTACH;FMTTYPE=image/png:https://massgop.com/wp-content/uploads/2025/09/LRTC-Logo.png
END:VEVENT
BEGIN:VEVENT
DTSTART;TZID=America/New_York:20290221T183000
DTEND;TZID=America/New_York:20290221T194500
DTSTAMP:20260425T181156
CREATED:20250926T155053Z
LAST-MODIFIED:20250926T155053Z
UID:10000951-1866393000-1866397500@massgop.com
SUMMARY:Longmeadow Republican Town Committee Monthly Meeting
DESCRIPTION:The Longmeadow Republican Town Committee holds its regular monthly meeting to discuss community issues\, upcoming events\, and opportunities to get involved in local civic life. Meetings are open to registered Republicans and interested residents. \nResidents are welcome to attend\, share ideas\, and learn more about how the committee supports civic engagement in Longmeadow. \nRepublican Town Committee \nLongmeadow\n“Liberty Lives Here.”
URL:https://massgop.com/event/longmeadow-republican-town-committee-monthly-meeting/2029-02-21/
ATTACH;FMTTYPE=image/png:https://massgop.com/wp-content/uploads/2025/09/LRTC-Logo.png
END:VEVENT
BEGIN:VEVENT
DTSTART;TZID=America/New_York:20290321T183000
DTEND;TZID=America/New_York:20290321T194500
DTSTAMP:20260425T181156
CREATED:20250926T155053Z
LAST-MODIFIED:20250926T155053Z
UID:10000952-1868812200-1868816700@massgop.com
SUMMARY:Longmeadow Republican Town Committee Monthly Meeting
DESCRIPTION:The Longmeadow Republican Town Committee holds its regular monthly meeting to discuss community issues\, upcoming events\, and opportunities to get involved in local civic life. Meetings are open to registered Republicans and interested residents. \nResidents are welcome to attend\, share ideas\, and learn more about how the committee supports civic engagement in Longmeadow. \nRepublican Town Committee \nLongmeadow\n“Liberty Lives Here.”
URL:https://massgop.com/event/longmeadow-republican-town-committee-monthly-meeting/2029-03-21/
ATTACH;FMTTYPE=image/png:https://massgop.com/wp-content/uploads/2025/09/LRTC-Logo.png
END:VEVENT
BEGIN:VEVENT
DTSTART;TZID=America/New_York:20290418T183000
DTEND;TZID=America/New_York:20290418T194500
DTSTAMP:20260425T181156
CREATED:20250926T155053Z
LAST-MODIFIED:20250926T155053Z
UID:10000953-1871231400-1871235900@massgop.com
SUMMARY:Longmeadow Republican Town Committee Monthly Meeting
DESCRIPTION:The Longmeadow Republican Town Committee holds its regular monthly meeting to discuss community issues\, upcoming events\, and opportunities to get involved in local civic life. Meetings are open to registered Republicans and interested residents. \nResidents are welcome to attend\, share ideas\, and learn more about how the committee supports civic engagement in Longmeadow. \nRepublican Town Committee \nLongmeadow\n“Liberty Lives Here.”
URL:https://massgop.com/event/longmeadow-republican-town-committee-monthly-meeting/2029-04-18/
ATTACH;FMTTYPE=image/png:https://massgop.com/wp-content/uploads/2025/09/LRTC-Logo.png
END:VEVENT
BEGIN:VEVENT
DTSTART;TZID=America/New_York:20290516T183000
DTEND;TZID=America/New_York:20290516T194500
DTSTAMP:20260425T181156
CREATED:20250926T155053Z
LAST-MODIFIED:20250926T155053Z
UID:10000954-1873650600-1873655100@massgop.com
SUMMARY:Longmeadow Republican Town Committee Monthly Meeting
DESCRIPTION:The Longmeadow Republican Town Committee holds its regular monthly meeting to discuss community issues\, upcoming events\, and opportunities to get involved in local civic life. Meetings are open to registered Republicans and interested residents. \nResidents are welcome to attend\, share ideas\, and learn more about how the committee supports civic engagement in Longmeadow. \nRepublican Town Committee \nLongmeadow\n“Liberty Lives Here.”
URL:https://massgop.com/event/longmeadow-republican-town-committee-monthly-meeting/2029-05-16/
ATTACH;FMTTYPE=image/png:https://massgop.com/wp-content/uploads/2025/09/LRTC-Logo.png
END:VEVENT
BEGIN:VEVENT
DTSTART;TZID=America/New_York:20290620T183000
DTEND;TZID=America/New_York:20290620T194500
DTSTAMP:20260425T181156
CREATED:20250926T155053Z
LAST-MODIFIED:20250926T155053Z
UID:10000955-1876674600-1876679100@massgop.com
SUMMARY:Longmeadow Republican Town Committee Monthly Meeting
DESCRIPTION:The Longmeadow Republican Town Committee holds its regular monthly meeting to discuss community issues\, upcoming events\, and opportunities to get involved in local civic life. Meetings are open to registered Republicans and interested residents. \nResidents are welcome to attend\, share ideas\, and learn more about how the committee supports civic engagement in Longmeadow. \nRepublican Town Committee \nLongmeadow\n“Liberty Lives Here.”
URL:https://massgop.com/event/longmeadow-republican-town-committee-monthly-meeting/2029-06-20/
ATTACH;FMTTYPE=image/png:https://massgop.com/wp-content/uploads/2025/09/LRTC-Logo.png
END:VEVENT
BEGIN:VEVENT
DTSTART;TZID=America/New_York:20290718T183000
DTEND;TZID=America/New_York:20290718T194500
DTSTAMP:20260425T181156
CREATED:20250926T155053Z
LAST-MODIFIED:20250926T155053Z
UID:10000956-1879093800-1879098300@massgop.com
SUMMARY:Longmeadow Republican Town Committee Monthly Meeting
DESCRIPTION:The Longmeadow Republican Town Committee holds its regular monthly meeting to discuss community issues\, upcoming events\, and opportunities to get involved in local civic life. Meetings are open to registered Republicans and interested residents. \nResidents are welcome to attend\, share ideas\, and learn more about how the committee supports civic engagement in Longmeadow. \nRepublican Town Committee \nLongmeadow\n“Liberty Lives Here.”
URL:https://massgop.com/event/longmeadow-republican-town-committee-monthly-meeting/2029-07-18/
ATTACH;FMTTYPE=image/png:https://massgop.com/wp-content/uploads/2025/09/LRTC-Logo.png
END:VEVENT
BEGIN:VEVENT
DTSTART;TZID=America/New_York:20290815T183000
DTEND;TZID=America/New_York:20290815T194500
DTSTAMP:20260425T181156
CREATED:20250926T155053Z
LAST-MODIFIED:20250926T155053Z
UID:10000957-1881513000-1881517500@massgop.com
SUMMARY:Longmeadow Republican Town Committee Monthly Meeting
DESCRIPTION:The Longmeadow Republican Town Committee holds its regular monthly meeting to discuss community issues\, upcoming events\, and opportunities to get involved in local civic life. Meetings are open to registered Republicans and interested residents. \nResidents are welcome to attend\, share ideas\, and learn more about how the committee supports civic engagement in Longmeadow. \nRepublican Town Committee \nLongmeadow\n“Liberty Lives Here.”
URL:https://massgop.com/event/longmeadow-republican-town-committee-monthly-meeting/2029-08-15/
ATTACH;FMTTYPE=image/png:https://massgop.com/wp-content/uploads/2025/09/LRTC-Logo.png
END:VEVENT
BEGIN:VEVENT
DTSTART;TZID=America/New_York:20290919T183000
DTEND;TZID=America/New_York:20290919T194500
DTSTAMP:20260425T181156
CREATED:20250926T155053Z
LAST-MODIFIED:20250926T155053Z
UID:10000958-1884537000-1884541500@massgop.com
SUMMARY:Longmeadow Republican Town Committee Monthly Meeting
DESCRIPTION:The Longmeadow Republican Town Committee holds its regular monthly meeting to discuss community issues\, upcoming events\, and opportunities to get involved in local civic life. Meetings are open to registered Republicans and interested residents. \nResidents are welcome to attend\, share ideas\, and learn more about how the committee supports civic engagement in Longmeadow. \nRepublican Town Committee \nLongmeadow\n“Liberty Lives Here.”
URL:https://massgop.com/event/longmeadow-republican-town-committee-monthly-meeting/2029-09-19/
ATTACH;FMTTYPE=image/png:https://massgop.com/wp-content/uploads/2025/09/LRTC-Logo.png
END:VEVENT
BEGIN:VEVENT
DTSTART;TZID=America/New_York:20291017T183000
DTEND;TZID=America/New_York:20291017T194500
DTSTAMP:20260425T181156
CREATED:20250926T155053Z
LAST-MODIFIED:20250926T155053Z
UID:10000959-1886956200-1886960700@massgop.com
SUMMARY:Longmeadow Republican Town Committee Monthly Meeting
DESCRIPTION:The Longmeadow Republican Town Committee holds its regular monthly meeting to discuss community issues\, upcoming events\, and opportunities to get involved in local civic life. Meetings are open to registered Republicans and interested residents. \nResidents are welcome to attend\, share ideas\, and learn more about how the committee supports civic engagement in Longmeadow. \nRepublican Town Committee \nLongmeadow\n“Liberty Lives Here.”
URL:https://massgop.com/event/longmeadow-republican-town-committee-monthly-meeting/2029-10-17/
ATTACH;FMTTYPE=image/png:https://massgop.com/wp-content/uploads/2025/09/LRTC-Logo.png
END:VEVENT
BEGIN:VEVENT
DTSTART;TZID=America/New_York:20291121T183000
DTEND;TZID=America/New_York:20291121T194500
DTSTAMP:20260425T181156
CREATED:20250926T155053Z
LAST-MODIFIED:20250926T155053Z
UID:10000960-1889980200-1889984700@massgop.com
SUMMARY:Longmeadow Republican Town Committee Monthly Meeting
DESCRIPTION:The Longmeadow Republican Town Committee holds its regular monthly meeting to discuss community issues\, upcoming events\, and opportunities to get involved in local civic life. Meetings are open to registered Republicans and interested residents. \nResidents are welcome to attend\, share ideas\, and learn more about how the committee supports civic engagement in Longmeadow. \nRepublican Town Committee \nLongmeadow\n“Liberty Lives Here.”
URL:https://massgop.com/event/longmeadow-republican-town-committee-monthly-meeting/2029-11-21/
ATTACH;FMTTYPE=image/png:https://massgop.com/wp-content/uploads/2025/09/LRTC-Logo.png
END:VEVENT
BEGIN:VEVENT
DTSTART;TZID=America/New_York:20291219T183000
DTEND;TZID=America/New_York:20291219T194500
DTSTAMP:20260425T181156
CREATED:20250926T155053Z
LAST-MODIFIED:20250926T155053Z
UID:10000961-1892399400-1892403900@massgop.com
SUMMARY:Longmeadow Republican Town Committee Monthly Meeting
DESCRIPTION:The Longmeadow Republican Town Committee holds its regular monthly meeting to discuss community issues\, upcoming events\, and opportunities to get involved in local civic life. Meetings are open to registered Republicans and interested residents. \nResidents are welcome to attend\, share ideas\, and learn more about how the committee supports civic engagement in Longmeadow. \nRepublican Town Committee \nLongmeadow\n“Liberty Lives Here.”
URL:https://massgop.com/event/longmeadow-republican-town-committee-monthly-meeting/2029-12-19/
ATTACH;FMTTYPE=image/png:https://massgop.com/wp-content/uploads/2025/09/LRTC-Logo.png
END:VEVENT
BEGIN:VEVENT
DTSTART;TZID=America/New_York:20300116T183000
DTEND;TZID=America/New_York:20300116T194500
DTSTAMP:20260425T181156
CREATED:20250926T155053Z
LAST-MODIFIED:20250926T155053Z
UID:10000962-1894818600-1894823100@massgop.com
SUMMARY:Longmeadow Republican Town Committee Monthly Meeting
DESCRIPTION:The Longmeadow Republican Town Committee holds its regular monthly meeting to discuss community issues\, upcoming events\, and opportunities to get involved in local civic life. Meetings are open to registered Republicans and interested residents. \nResidents are welcome to attend\, share ideas\, and learn more about how the committee supports civic engagement in Longmeadow. \nRepublican Town Committee \nLongmeadow\n“Liberty Lives Here.”
URL:https://massgop.com/event/longmeadow-republican-town-committee-monthly-meeting/2030-01-16/
ATTACH;FMTTYPE=image/png:https://massgop.com/wp-content/uploads/2025/09/LRTC-Logo.png
END:VEVENT
BEGIN:VEVENT
DTSTART;TZID=America/New_York:20300220T183000
DTEND;TZID=America/New_York:20300220T194500
DTSTAMP:20260425T181156
CREATED:20250926T155053Z
LAST-MODIFIED:20250926T155053Z
UID:10000963-1897842600-1897847100@massgop.com
SUMMARY:Longmeadow Republican Town Committee Monthly Meeting
DESCRIPTION:The Longmeadow Republican Town Committee holds its regular monthly meeting to discuss community issues\, upcoming events\, and opportunities to get involved in local civic life. Meetings are open to registered Republicans and interested residents. \nResidents are welcome to attend\, share ideas\, and learn more about how the committee supports civic engagement in Longmeadow. \nRepublican Town Committee \nLongmeadow\n“Liberty Lives Here.”
URL:https://massgop.com/event/longmeadow-republican-town-committee-monthly-meeting/2030-02-20/
ATTACH;FMTTYPE=image/png:https://massgop.com/wp-content/uploads/2025/09/LRTC-Logo.png
END:VEVENT
BEGIN:VEVENT
DTSTART;TZID=America/New_York:20300320T183000
DTEND;TZID=America/New_York:20300320T194500
DTSTAMP:20260425T181156
CREATED:20250926T155053Z
LAST-MODIFIED:20250926T155053Z
UID:10000964-1900261800-1900266300@massgop.com
SUMMARY:Longmeadow Republican Town Committee Monthly Meeting
DESCRIPTION:The Longmeadow Republican Town Committee holds its regular monthly meeting to discuss community issues\, upcoming events\, and opportunities to get involved in local civic life. Meetings are open to registered Republicans and interested residents. \nResidents are welcome to attend\, share ideas\, and learn more about how the committee supports civic engagement in Longmeadow. \nRepublican Town Committee \nLongmeadow\n“Liberty Lives Here.”
URL:https://massgop.com/event/longmeadow-republican-town-committee-monthly-meeting/2030-03-20/
ATTACH;FMTTYPE=image/png:https://massgop.com/wp-content/uploads/2025/09/LRTC-Logo.png
END:VEVENT
BEGIN:VEVENT
DTSTART;TZID=America/New_York:20300417T183000
DTEND;TZID=America/New_York:20300417T194500
DTSTAMP:20260425T181156
CREATED:20250926T155053Z
LAST-MODIFIED:20250926T155053Z
UID:10000965-1902681000-1902685500@massgop.com
SUMMARY:Longmeadow Republican Town Committee Monthly Meeting
DESCRIPTION:The Longmeadow Republican Town Committee holds its regular monthly meeting to discuss community issues\, upcoming events\, and opportunities to get involved in local civic life. Meetings are open to registered Republicans and interested residents. \nResidents are welcome to attend\, share ideas\, and learn more about how the committee supports civic engagement in Longmeadow. \nRepublican Town Committee \nLongmeadow\n“Liberty Lives Here.”
URL:https://massgop.com/event/longmeadow-republican-town-committee-monthly-meeting/2030-04-17/
ATTACH;FMTTYPE=image/png:https://massgop.com/wp-content/uploads/2025/09/LRTC-Logo.png
END:VEVENT
BEGIN:VEVENT
DTSTART;TZID=America/New_York:20300515T183000
DTEND;TZID=America/New_York:20300515T194500
DTSTAMP:20260425T181156
CREATED:20250926T155053Z
LAST-MODIFIED:20250926T155053Z
UID:10000966-1905100200-1905104700@massgop.com
SUMMARY:Longmeadow Republican Town Committee Monthly Meeting
DESCRIPTION:The Longmeadow Republican Town Committee holds its regular monthly meeting to discuss community issues\, upcoming events\, and opportunities to get involved in local civic life. Meetings are open to registered Republicans and interested residents. \nResidents are welcome to attend\, share ideas\, and learn more about how the committee supports civic engagement in Longmeadow. \nRepublican Town Committee \nLongmeadow\n“Liberty Lives Here.”
URL:https://massgop.com/event/longmeadow-republican-town-committee-monthly-meeting/2030-05-15/
ATTACH;FMTTYPE=image/png:https://massgop.com/wp-content/uploads/2025/09/LRTC-Logo.png
END:VEVENT
BEGIN:VEVENT
DTSTART;TZID=America/New_York:20300619T183000
DTEND;TZID=America/New_York:20300619T194500
DTSTAMP:20260425T181156
CREATED:20250926T155053Z
LAST-MODIFIED:20250926T155053Z
UID:10000967-1908124200-1908128700@massgop.com
SUMMARY:Longmeadow Republican Town Committee Monthly Meeting
DESCRIPTION:The Longmeadow Republican Town Committee holds its regular monthly meeting to discuss community issues\, upcoming events\, and opportunities to get involved in local civic life. Meetings are open to registered Republicans and interested residents. \nResidents are welcome to attend\, share ideas\, and learn more about how the committee supports civic engagement in Longmeadow. \nRepublican Town Committee \nLongmeadow\n“Liberty Lives Here.”
URL:https://massgop.com/event/longmeadow-republican-town-committee-monthly-meeting/2030-06-19/
ATTACH;FMTTYPE=image/png:https://massgop.com/wp-content/uploads/2025/09/LRTC-Logo.png
END:VEVENT
BEGIN:VEVENT
DTSTART;TZID=America/New_York:20300717T183000
DTEND;TZID=America/New_York:20300717T194500
DTSTAMP:20260425T181156
CREATED:20250926T155053Z
LAST-MODIFIED:20250926T155053Z
UID:10000968-1910543400-1910547900@massgop.com
SUMMARY:Longmeadow Republican Town Committee Monthly Meeting
DESCRIPTION:The Longmeadow Republican Town Committee holds its regular monthly meeting to discuss community issues\, upcoming events\, and opportunities to get involved in local civic life. Meetings are open to registered Republicans and interested residents. \nResidents are welcome to attend\, share ideas\, and learn more about how the committee supports civic engagement in Longmeadow. \nRepublican Town Committee \nLongmeadow\n“Liberty Lives Here.”
URL:https://massgop.com/event/longmeadow-republican-town-committee-monthly-meeting/2030-07-17/
ATTACH;FMTTYPE=image/png:https://massgop.com/wp-content/uploads/2025/09/LRTC-Logo.png
END:VEVENT
BEGIN:VEVENT
DTSTART;TZID=America/New_York:20300821T183000
DTEND;TZID=America/New_York:20300821T194500
DTSTAMP:20260425T181156
CREATED:20250926T155053Z
LAST-MODIFIED:20250926T155053Z
UID:10000969-1913567400-1913571900@massgop.com
SUMMARY:Longmeadow Republican Town Committee Monthly Meeting
DESCRIPTION:The Longmeadow Republican Town Committee holds its regular monthly meeting to discuss community issues\, upcoming events\, and opportunities to get involved in local civic life. Meetings are open to registered Republicans and interested residents. \nResidents are welcome to attend\, share ideas\, and learn more about how the committee supports civic engagement in Longmeadow. \nRepublican Town Committee \nLongmeadow\n“Liberty Lives Here.”
URL:https://massgop.com/event/longmeadow-republican-town-committee-monthly-meeting/2030-08-21/
ATTACH;FMTTYPE=image/png:https://massgop.com/wp-content/uploads/2025/09/LRTC-Logo.png
END:VEVENT
BEGIN:VEVENT
DTSTART;TZID=America/New_York:20300918T183000
DTEND;TZID=America/New_York:20300918T194500
DTSTAMP:20260425T181156
CREATED:20250926T155053Z
LAST-MODIFIED:20250926T155053Z
UID:10000970-1915986600-1915991100@massgop.com
SUMMARY:Longmeadow Republican Town Committee Monthly Meeting
DESCRIPTION:The Longmeadow Republican Town Committee holds its regular monthly meeting to discuss community issues\, upcoming events\, and opportunities to get involved in local civic life. Meetings are open to registered Republicans and interested residents. \nResidents are welcome to attend\, share ideas\, and learn more about how the committee supports civic engagement in Longmeadow. \nRepublican Town Committee \nLongmeadow\n“Liberty Lives Here.”
URL:https://massgop.com/event/longmeadow-republican-town-committee-monthly-meeting/2030-09-18/
ATTACH;FMTTYPE=image/png:https://massgop.com/wp-content/uploads/2025/09/LRTC-Logo.png
END:VEVENT
END:VCALENDAR