BEGIN:VCALENDAR
VERSION:2.0
PRODID:-//Massachusetts GOP - ECPv6.15.20//NONSGML v1.0//EN
CALSCALE:GREGORIAN
METHOD:PUBLISH
X-ORIGINAL-URL:https://massgop.com
X-WR-CALDESC:Events for Massachusetts GOP
REFRESH-INTERVAL;VALUE=DURATION:PT1H
X-Robots-Tag:noindex
X-PUBLISHED-TTL:PT1H
BEGIN:VTIMEZONE
TZID:America/New_York
BEGIN:DAYLIGHT
TZOFFSETFROM:-0500
TZOFFSETTO:-0400
TZNAME:EDT
DTSTART:20250309T070000
END:DAYLIGHT
BEGIN:STANDARD
TZOFFSETFROM:-0400
TZOFFSETTO:-0500
TZNAME:EST
DTSTART:20251102T060000
END:STANDARD
BEGIN:DAYLIGHT
TZOFFSETFROM:-0500
TZOFFSETTO:-0400
TZNAME:EDT
DTSTART:20260308T070000
END:DAYLIGHT
BEGIN:STANDARD
TZOFFSETFROM:-0400
TZOFFSETTO:-0500
TZNAME:EST
DTSTART:20261101T060000
END:STANDARD
BEGIN:DAYLIGHT
TZOFFSETFROM:-0500
TZOFFSETTO:-0400
TZNAME:EDT
DTSTART:20270314T070000
END:DAYLIGHT
BEGIN:STANDARD
TZOFFSETFROM:-0400
TZOFFSETTO:-0500
TZNAME:EST
DTSTART:20271107T060000
END:STANDARD
BEGIN:DAYLIGHT
TZOFFSETFROM:-0500
TZOFFSETTO:-0400
TZNAME:EDT
DTSTART:20280312T070000
END:DAYLIGHT
BEGIN:STANDARD
TZOFFSETFROM:-0400
TZOFFSETTO:-0500
TZNAME:EST
DTSTART:20281105T060000
END:STANDARD
BEGIN:DAYLIGHT
TZOFFSETFROM:-0500
TZOFFSETTO:-0400
TZNAME:EDT
DTSTART:20290311T070000
END:DAYLIGHT
BEGIN:STANDARD
TZOFFSETFROM:-0400
TZOFFSETTO:-0500
TZNAME:EST
DTSTART:20291104T060000
END:STANDARD
END:VTIMEZONE
BEGIN:VEVENT
DTSTART;TZID=America/New_York:20260520T183000
DTEND;TZID=America/New_York:20260520T194500
DTSTAMP:20260425T142338
CREATED:20250926T155053Z
LAST-MODIFIED:20250926T155053Z
UID:10000918-1779301800-1779306300@massgop.com
SUMMARY:Longmeadow Republican Town Committee Monthly Meeting
DESCRIPTION:The Longmeadow Republican Town Committee holds its regular monthly meeting to discuss community issues\, upcoming events\, and opportunities to get involved in local civic life. Meetings are open to registered Republicans and interested residents. \nResidents are welcome to attend\, share ideas\, and learn more about how the committee supports civic engagement in Longmeadow. \nRepublican Town Committee \nLongmeadow\n“Liberty Lives Here.”
URL:https://massgop.com/event/longmeadow-republican-town-committee-monthly-meeting/2026-05-20/
ATTACH;FMTTYPE=image/png:https://massgop.com/wp-content/uploads/2025/09/LRTC-Logo.png
END:VEVENT
BEGIN:VEVENT
DTSTART;TZID=America/New_York:20260617T183000
DTEND;TZID=America/New_York:20260617T194500
DTSTAMP:20260425T142338
CREATED:20250926T155053Z
LAST-MODIFIED:20250926T155053Z
UID:10000919-1781721000-1781725500@massgop.com
SUMMARY:Longmeadow Republican Town Committee Monthly Meeting
DESCRIPTION:The Longmeadow Republican Town Committee holds its regular monthly meeting to discuss community issues\, upcoming events\, and opportunities to get involved in local civic life. Meetings are open to registered Republicans and interested residents. \nResidents are welcome to attend\, share ideas\, and learn more about how the committee supports civic engagement in Longmeadow. \nRepublican Town Committee \nLongmeadow\n“Liberty Lives Here.”
URL:https://massgop.com/event/longmeadow-republican-town-committee-monthly-meeting/2026-06-17/
ATTACH;FMTTYPE=image/png:https://massgop.com/wp-content/uploads/2025/09/LRTC-Logo.png
END:VEVENT
BEGIN:VEVENT
DTSTART;TZID=America/New_York:20260715T183000
DTEND;TZID=America/New_York:20260715T194500
DTSTAMP:20260425T142338
CREATED:20250926T155053Z
LAST-MODIFIED:20250926T155053Z
UID:10000920-1784140200-1784144700@massgop.com
SUMMARY:Longmeadow Republican Town Committee Monthly Meeting
DESCRIPTION:The Longmeadow Republican Town Committee holds its regular monthly meeting to discuss community issues\, upcoming events\, and opportunities to get involved in local civic life. Meetings are open to registered Republicans and interested residents. \nResidents are welcome to attend\, share ideas\, and learn more about how the committee supports civic engagement in Longmeadow. \nRepublican Town Committee \nLongmeadow\n“Liberty Lives Here.”
URL:https://massgop.com/event/longmeadow-republican-town-committee-monthly-meeting/2026-07-15/
ATTACH;FMTTYPE=image/png:https://massgop.com/wp-content/uploads/2025/09/LRTC-Logo.png
END:VEVENT
BEGIN:VEVENT
DTSTART;TZID=America/New_York:20260819T183000
DTEND;TZID=America/New_York:20260819T194500
DTSTAMP:20260425T142338
CREATED:20250926T155053Z
LAST-MODIFIED:20250926T155053Z
UID:10000921-1787164200-1787168700@massgop.com
SUMMARY:Longmeadow Republican Town Committee Monthly Meeting
DESCRIPTION:The Longmeadow Republican Town Committee holds its regular monthly meeting to discuss community issues\, upcoming events\, and opportunities to get involved in local civic life. Meetings are open to registered Republicans and interested residents. \nResidents are welcome to attend\, share ideas\, and learn more about how the committee supports civic engagement in Longmeadow. \nRepublican Town Committee \nLongmeadow\n“Liberty Lives Here.”
URL:https://massgop.com/event/longmeadow-republican-town-committee-monthly-meeting/2026-08-19/
ATTACH;FMTTYPE=image/png:https://massgop.com/wp-content/uploads/2025/09/LRTC-Logo.png
END:VEVENT
BEGIN:VEVENT
DTSTART;TZID=America/New_York:20260916T183000
DTEND;TZID=America/New_York:20260916T194500
DTSTAMP:20260425T142338
CREATED:20250926T155053Z
LAST-MODIFIED:20250926T155053Z
UID:10000922-1789583400-1789587900@massgop.com
SUMMARY:Longmeadow Republican Town Committee Monthly Meeting
DESCRIPTION:The Longmeadow Republican Town Committee holds its regular monthly meeting to discuss community issues\, upcoming events\, and opportunities to get involved in local civic life. Meetings are open to registered Republicans and interested residents. \nResidents are welcome to attend\, share ideas\, and learn more about how the committee supports civic engagement in Longmeadow. \nRepublican Town Committee \nLongmeadow\n“Liberty Lives Here.”
URL:https://massgop.com/event/longmeadow-republican-town-committee-monthly-meeting/2026-09-16/
ATTACH;FMTTYPE=image/png:https://massgop.com/wp-content/uploads/2025/09/LRTC-Logo.png
END:VEVENT
BEGIN:VEVENT
DTSTART;TZID=America/New_York:20261021T183000
DTEND;TZID=America/New_York:20261021T194500
DTSTAMP:20260425T142338
CREATED:20250926T155053Z
LAST-MODIFIED:20250926T155053Z
UID:10000923-1792607400-1792611900@massgop.com
SUMMARY:Longmeadow Republican Town Committee Monthly Meeting
DESCRIPTION:The Longmeadow Republican Town Committee holds its regular monthly meeting to discuss community issues\, upcoming events\, and opportunities to get involved in local civic life. Meetings are open to registered Republicans and interested residents. \nResidents are welcome to attend\, share ideas\, and learn more about how the committee supports civic engagement in Longmeadow. \nRepublican Town Committee \nLongmeadow\n“Liberty Lives Here.”
URL:https://massgop.com/event/longmeadow-republican-town-committee-monthly-meeting/2026-10-21/
ATTACH;FMTTYPE=image/png:https://massgop.com/wp-content/uploads/2025/09/LRTC-Logo.png
END:VEVENT
BEGIN:VEVENT
DTSTART;TZID=America/New_York:20261118T183000
DTEND;TZID=America/New_York:20261118T194500
DTSTAMP:20260425T142338
CREATED:20250926T155053Z
LAST-MODIFIED:20250926T155053Z
UID:10000924-1795026600-1795031100@massgop.com
SUMMARY:Longmeadow Republican Town Committee Monthly Meeting
DESCRIPTION:The Longmeadow Republican Town Committee holds its regular monthly meeting to discuss community issues\, upcoming events\, and opportunities to get involved in local civic life. Meetings are open to registered Republicans and interested residents. \nResidents are welcome to attend\, share ideas\, and learn more about how the committee supports civic engagement in Longmeadow. \nRepublican Town Committee \nLongmeadow\n“Liberty Lives Here.”
URL:https://massgop.com/event/longmeadow-republican-town-committee-monthly-meeting/2026-11-18/
ATTACH;FMTTYPE=image/png:https://massgop.com/wp-content/uploads/2025/09/LRTC-Logo.png
END:VEVENT
BEGIN:VEVENT
DTSTART;TZID=America/New_York:20261216T183000
DTEND;TZID=America/New_York:20261216T194500
DTSTAMP:20260425T142338
CREATED:20250926T155053Z
LAST-MODIFIED:20250926T155053Z
UID:10000925-1797445800-1797450300@massgop.com
SUMMARY:Longmeadow Republican Town Committee Monthly Meeting
DESCRIPTION:The Longmeadow Republican Town Committee holds its regular monthly meeting to discuss community issues\, upcoming events\, and opportunities to get involved in local civic life. Meetings are open to registered Republicans and interested residents. \nResidents are welcome to attend\, share ideas\, and learn more about how the committee supports civic engagement in Longmeadow. \nRepublican Town Committee \nLongmeadow\n“Liberty Lives Here.”
URL:https://massgop.com/event/longmeadow-republican-town-committee-monthly-meeting/2026-12-16/
ATTACH;FMTTYPE=image/png:https://massgop.com/wp-content/uploads/2025/09/LRTC-Logo.png
END:VEVENT
BEGIN:VEVENT
DTSTART;TZID=America/New_York:20270120T183000
DTEND;TZID=America/New_York:20270120T194500
DTSTAMP:20260425T142338
CREATED:20250926T155053Z
LAST-MODIFIED:20250926T155053Z
UID:10000926-1800469800-1800474300@massgop.com
SUMMARY:Longmeadow Republican Town Committee Monthly Meeting
DESCRIPTION:The Longmeadow Republican Town Committee holds its regular monthly meeting to discuss community issues\, upcoming events\, and opportunities to get involved in local civic life. Meetings are open to registered Republicans and interested residents. \nResidents are welcome to attend\, share ideas\, and learn more about how the committee supports civic engagement in Longmeadow. \nRepublican Town Committee \nLongmeadow\n“Liberty Lives Here.”
URL:https://massgop.com/event/longmeadow-republican-town-committee-monthly-meeting/2027-01-20/
ATTACH;FMTTYPE=image/png:https://massgop.com/wp-content/uploads/2025/09/LRTC-Logo.png
END:VEVENT
BEGIN:VEVENT
DTSTART;TZID=America/New_York:20270217T183000
DTEND;TZID=America/New_York:20270217T194500
DTSTAMP:20260425T142338
CREATED:20250926T155053Z
LAST-MODIFIED:20250926T155053Z
UID:10000927-1802889000-1802893500@massgop.com
SUMMARY:Longmeadow Republican Town Committee Monthly Meeting
DESCRIPTION:The Longmeadow Republican Town Committee holds its regular monthly meeting to discuss community issues\, upcoming events\, and opportunities to get involved in local civic life. Meetings are open to registered Republicans and interested residents. \nResidents are welcome to attend\, share ideas\, and learn more about how the committee supports civic engagement in Longmeadow. \nRepublican Town Committee \nLongmeadow\n“Liberty Lives Here.”
URL:https://massgop.com/event/longmeadow-republican-town-committee-monthly-meeting/2027-02-17/
ATTACH;FMTTYPE=image/png:https://massgop.com/wp-content/uploads/2025/09/LRTC-Logo.png
END:VEVENT
BEGIN:VEVENT
DTSTART;TZID=America/New_York:20270317T183000
DTEND;TZID=America/New_York:20270317T194500
DTSTAMP:20260425T142338
CREATED:20250926T155053Z
LAST-MODIFIED:20250926T155053Z
UID:10000928-1805308200-1805312700@massgop.com
SUMMARY:Longmeadow Republican Town Committee Monthly Meeting
DESCRIPTION:The Longmeadow Republican Town Committee holds its regular monthly meeting to discuss community issues\, upcoming events\, and opportunities to get involved in local civic life. Meetings are open to registered Republicans and interested residents. \nResidents are welcome to attend\, share ideas\, and learn more about how the committee supports civic engagement in Longmeadow. \nRepublican Town Committee \nLongmeadow\n“Liberty Lives Here.”
URL:https://massgop.com/event/longmeadow-republican-town-committee-monthly-meeting/2027-03-17/
ATTACH;FMTTYPE=image/png:https://massgop.com/wp-content/uploads/2025/09/LRTC-Logo.png
END:VEVENT
BEGIN:VEVENT
DTSTART;TZID=America/New_York:20270421T183000
DTEND;TZID=America/New_York:20270421T194500
DTSTAMP:20260425T142338
CREATED:20250926T155053Z
LAST-MODIFIED:20250926T155053Z
UID:10000929-1808332200-1808336700@massgop.com
SUMMARY:Longmeadow Republican Town Committee Monthly Meeting
DESCRIPTION:The Longmeadow Republican Town Committee holds its regular monthly meeting to discuss community issues\, upcoming events\, and opportunities to get involved in local civic life. Meetings are open to registered Republicans and interested residents. \nResidents are welcome to attend\, share ideas\, and learn more about how the committee supports civic engagement in Longmeadow. \nRepublican Town Committee \nLongmeadow\n“Liberty Lives Here.”
URL:https://massgop.com/event/longmeadow-republican-town-committee-monthly-meeting/2027-04-21/
ATTACH;FMTTYPE=image/png:https://massgop.com/wp-content/uploads/2025/09/LRTC-Logo.png
END:VEVENT
BEGIN:VEVENT
DTSTART;TZID=America/New_York:20270519T183000
DTEND;TZID=America/New_York:20270519T194500
DTSTAMP:20260425T142338
CREATED:20250926T155053Z
LAST-MODIFIED:20250926T155053Z
UID:10000930-1810751400-1810755900@massgop.com
SUMMARY:Longmeadow Republican Town Committee Monthly Meeting
DESCRIPTION:The Longmeadow Republican Town Committee holds its regular monthly meeting to discuss community issues\, upcoming events\, and opportunities to get involved in local civic life. Meetings are open to registered Republicans and interested residents. \nResidents are welcome to attend\, share ideas\, and learn more about how the committee supports civic engagement in Longmeadow. \nRepublican Town Committee \nLongmeadow\n“Liberty Lives Here.”
URL:https://massgop.com/event/longmeadow-republican-town-committee-monthly-meeting/2027-05-19/
ATTACH;FMTTYPE=image/png:https://massgop.com/wp-content/uploads/2025/09/LRTC-Logo.png
END:VEVENT
BEGIN:VEVENT
DTSTART;TZID=America/New_York:20270616T183000
DTEND;TZID=America/New_York:20270616T194500
DTSTAMP:20260425T142338
CREATED:20250926T155053Z
LAST-MODIFIED:20250926T155053Z
UID:10000931-1813170600-1813175100@massgop.com
SUMMARY:Longmeadow Republican Town Committee Monthly Meeting
DESCRIPTION:The Longmeadow Republican Town Committee holds its regular monthly meeting to discuss community issues\, upcoming events\, and opportunities to get involved in local civic life. Meetings are open to registered Republicans and interested residents. \nResidents are welcome to attend\, share ideas\, and learn more about how the committee supports civic engagement in Longmeadow. \nRepublican Town Committee \nLongmeadow\n“Liberty Lives Here.”
URL:https://massgop.com/event/longmeadow-republican-town-committee-monthly-meeting/2027-06-16/
ATTACH;FMTTYPE=image/png:https://massgop.com/wp-content/uploads/2025/09/LRTC-Logo.png
END:VEVENT
BEGIN:VEVENT
DTSTART;TZID=America/New_York:20270721T183000
DTEND;TZID=America/New_York:20270721T194500
DTSTAMP:20260425T142338
CREATED:20250926T155053Z
LAST-MODIFIED:20250926T155053Z
UID:10000932-1816194600-1816199100@massgop.com
SUMMARY:Longmeadow Republican Town Committee Monthly Meeting
DESCRIPTION:The Longmeadow Republican Town Committee holds its regular monthly meeting to discuss community issues\, upcoming events\, and opportunities to get involved in local civic life. Meetings are open to registered Republicans and interested residents. \nResidents are welcome to attend\, share ideas\, and learn more about how the committee supports civic engagement in Longmeadow. \nRepublican Town Committee \nLongmeadow\n“Liberty Lives Here.”
URL:https://massgop.com/event/longmeadow-republican-town-committee-monthly-meeting/2027-07-21/
ATTACH;FMTTYPE=image/png:https://massgop.com/wp-content/uploads/2025/09/LRTC-Logo.png
END:VEVENT
BEGIN:VEVENT
DTSTART;TZID=America/New_York:20270818T183000
DTEND;TZID=America/New_York:20270818T194500
DTSTAMP:20260425T142338
CREATED:20250926T155053Z
LAST-MODIFIED:20250926T155053Z
UID:10000933-1818613800-1818618300@massgop.com
SUMMARY:Longmeadow Republican Town Committee Monthly Meeting
DESCRIPTION:The Longmeadow Republican Town Committee holds its regular monthly meeting to discuss community issues\, upcoming events\, and opportunities to get involved in local civic life. Meetings are open to registered Republicans and interested residents. \nResidents are welcome to attend\, share ideas\, and learn more about how the committee supports civic engagement in Longmeadow. \nRepublican Town Committee \nLongmeadow\n“Liberty Lives Here.”
URL:https://massgop.com/event/longmeadow-republican-town-committee-monthly-meeting/2027-08-18/
ATTACH;FMTTYPE=image/png:https://massgop.com/wp-content/uploads/2025/09/LRTC-Logo.png
END:VEVENT
BEGIN:VEVENT
DTSTART;TZID=America/New_York:20270915T183000
DTEND;TZID=America/New_York:20270915T194500
DTSTAMP:20260425T142338
CREATED:20250926T155053Z
LAST-MODIFIED:20250926T155053Z
UID:10000934-1821033000-1821037500@massgop.com
SUMMARY:Longmeadow Republican Town Committee Monthly Meeting
DESCRIPTION:The Longmeadow Republican Town Committee holds its regular monthly meeting to discuss community issues\, upcoming events\, and opportunities to get involved in local civic life. Meetings are open to registered Republicans and interested residents. \nResidents are welcome to attend\, share ideas\, and learn more about how the committee supports civic engagement in Longmeadow. \nRepublican Town Committee \nLongmeadow\n“Liberty Lives Here.”
URL:https://massgop.com/event/longmeadow-republican-town-committee-monthly-meeting/2027-09-15/
ATTACH;FMTTYPE=image/png:https://massgop.com/wp-content/uploads/2025/09/LRTC-Logo.png
END:VEVENT
BEGIN:VEVENT
DTSTART;TZID=America/New_York:20271020T183000
DTEND;TZID=America/New_York:20271020T194500
DTSTAMP:20260425T142338
CREATED:20250926T155053Z
LAST-MODIFIED:20250926T155053Z
UID:10000935-1824057000-1824061500@massgop.com
SUMMARY:Longmeadow Republican Town Committee Monthly Meeting
DESCRIPTION:The Longmeadow Republican Town Committee holds its regular monthly meeting to discuss community issues\, upcoming events\, and opportunities to get involved in local civic life. Meetings are open to registered Republicans and interested residents. \nResidents are welcome to attend\, share ideas\, and learn more about how the committee supports civic engagement in Longmeadow. \nRepublican Town Committee \nLongmeadow\n“Liberty Lives Here.”
URL:https://massgop.com/event/longmeadow-republican-town-committee-monthly-meeting/2027-10-20/
ATTACH;FMTTYPE=image/png:https://massgop.com/wp-content/uploads/2025/09/LRTC-Logo.png
END:VEVENT
BEGIN:VEVENT
DTSTART;TZID=America/New_York:20271117T183000
DTEND;TZID=America/New_York:20271117T194500
DTSTAMP:20260425T142338
CREATED:20250926T155053Z
LAST-MODIFIED:20250926T155053Z
UID:10000936-1826476200-1826480700@massgop.com
SUMMARY:Longmeadow Republican Town Committee Monthly Meeting
DESCRIPTION:The Longmeadow Republican Town Committee holds its regular monthly meeting to discuss community issues\, upcoming events\, and opportunities to get involved in local civic life. Meetings are open to registered Republicans and interested residents. \nResidents are welcome to attend\, share ideas\, and learn more about how the committee supports civic engagement in Longmeadow. \nRepublican Town Committee \nLongmeadow\n“Liberty Lives Here.”
URL:https://massgop.com/event/longmeadow-republican-town-committee-monthly-meeting/2027-11-17/
ATTACH;FMTTYPE=image/png:https://massgop.com/wp-content/uploads/2025/09/LRTC-Logo.png
END:VEVENT
BEGIN:VEVENT
DTSTART;TZID=America/New_York:20271215T183000
DTEND;TZID=America/New_York:20271215T194500
DTSTAMP:20260425T142338
CREATED:20250926T155053Z
LAST-MODIFIED:20250926T155053Z
UID:10000937-1828895400-1828899900@massgop.com
SUMMARY:Longmeadow Republican Town Committee Monthly Meeting
DESCRIPTION:The Longmeadow Republican Town Committee holds its regular monthly meeting to discuss community issues\, upcoming events\, and opportunities to get involved in local civic life. Meetings are open to registered Republicans and interested residents. \nResidents are welcome to attend\, share ideas\, and learn more about how the committee supports civic engagement in Longmeadow. \nRepublican Town Committee \nLongmeadow\n“Liberty Lives Here.”
URL:https://massgop.com/event/longmeadow-republican-town-committee-monthly-meeting/2027-12-15/
ATTACH;FMTTYPE=image/png:https://massgop.com/wp-content/uploads/2025/09/LRTC-Logo.png
END:VEVENT
BEGIN:VEVENT
DTSTART;TZID=America/New_York:20280119T183000
DTEND;TZID=America/New_York:20280119T194500
DTSTAMP:20260425T142338
CREATED:20250926T155053Z
LAST-MODIFIED:20250926T155053Z
UID:10000938-1831919400-1831923900@massgop.com
SUMMARY:Longmeadow Republican Town Committee Monthly Meeting
DESCRIPTION:The Longmeadow Republican Town Committee holds its regular monthly meeting to discuss community issues\, upcoming events\, and opportunities to get involved in local civic life. Meetings are open to registered Republicans and interested residents. \nResidents are welcome to attend\, share ideas\, and learn more about how the committee supports civic engagement in Longmeadow. \nRepublican Town Committee \nLongmeadow\n“Liberty Lives Here.”
URL:https://massgop.com/event/longmeadow-republican-town-committee-monthly-meeting/2028-01-19/
ATTACH;FMTTYPE=image/png:https://massgop.com/wp-content/uploads/2025/09/LRTC-Logo.png
END:VEVENT
BEGIN:VEVENT
DTSTART;TZID=America/New_York:20280216T183000
DTEND;TZID=America/New_York:20280216T194500
DTSTAMP:20260425T142338
CREATED:20250926T155053Z
LAST-MODIFIED:20250926T155053Z
UID:10000939-1834338600-1834343100@massgop.com
SUMMARY:Longmeadow Republican Town Committee Monthly Meeting
DESCRIPTION:The Longmeadow Republican Town Committee holds its regular monthly meeting to discuss community issues\, upcoming events\, and opportunities to get involved in local civic life. Meetings are open to registered Republicans and interested residents. \nResidents are welcome to attend\, share ideas\, and learn more about how the committee supports civic engagement in Longmeadow. \nRepublican Town Committee \nLongmeadow\n“Liberty Lives Here.”
URL:https://massgop.com/event/longmeadow-republican-town-committee-monthly-meeting/2028-02-16/
ATTACH;FMTTYPE=image/png:https://massgop.com/wp-content/uploads/2025/09/LRTC-Logo.png
END:VEVENT
BEGIN:VEVENT
DTSTART;TZID=America/New_York:20280315T183000
DTEND;TZID=America/New_York:20280315T194500
DTSTAMP:20260425T142338
CREATED:20250926T155053Z
LAST-MODIFIED:20250926T155053Z
UID:10000940-1836757800-1836762300@massgop.com
SUMMARY:Longmeadow Republican Town Committee Monthly Meeting
DESCRIPTION:The Longmeadow Republican Town Committee holds its regular monthly meeting to discuss community issues\, upcoming events\, and opportunities to get involved in local civic life. Meetings are open to registered Republicans and interested residents. \nResidents are welcome to attend\, share ideas\, and learn more about how the committee supports civic engagement in Longmeadow. \nRepublican Town Committee \nLongmeadow\n“Liberty Lives Here.”
URL:https://massgop.com/event/longmeadow-republican-town-committee-monthly-meeting/2028-03-15/
ATTACH;FMTTYPE=image/png:https://massgop.com/wp-content/uploads/2025/09/LRTC-Logo.png
END:VEVENT
BEGIN:VEVENT
DTSTART;TZID=America/New_York:20280419T183000
DTEND;TZID=America/New_York:20280419T194500
DTSTAMP:20260425T142338
CREATED:20250926T155053Z
LAST-MODIFIED:20250926T155053Z
UID:10000941-1839781800-1839786300@massgop.com
SUMMARY:Longmeadow Republican Town Committee Monthly Meeting
DESCRIPTION:The Longmeadow Republican Town Committee holds its regular monthly meeting to discuss community issues\, upcoming events\, and opportunities to get involved in local civic life. Meetings are open to registered Republicans and interested residents. \nResidents are welcome to attend\, share ideas\, and learn more about how the committee supports civic engagement in Longmeadow. \nRepublican Town Committee \nLongmeadow\n“Liberty Lives Here.”
URL:https://massgop.com/event/longmeadow-republican-town-committee-monthly-meeting/2028-04-19/
ATTACH;FMTTYPE=image/png:https://massgop.com/wp-content/uploads/2025/09/LRTC-Logo.png
END:VEVENT
BEGIN:VEVENT
DTSTART;TZID=America/New_York:20280517T183000
DTEND;TZID=America/New_York:20280517T194500
DTSTAMP:20260425T142338
CREATED:20250926T155053Z
LAST-MODIFIED:20250926T155053Z
UID:10000942-1842201000-1842205500@massgop.com
SUMMARY:Longmeadow Republican Town Committee Monthly Meeting
DESCRIPTION:The Longmeadow Republican Town Committee holds its regular monthly meeting to discuss community issues\, upcoming events\, and opportunities to get involved in local civic life. Meetings are open to registered Republicans and interested residents. \nResidents are welcome to attend\, share ideas\, and learn more about how the committee supports civic engagement in Longmeadow. \nRepublican Town Committee \nLongmeadow\n“Liberty Lives Here.”
URL:https://massgop.com/event/longmeadow-republican-town-committee-monthly-meeting/2028-05-17/
ATTACH;FMTTYPE=image/png:https://massgop.com/wp-content/uploads/2025/09/LRTC-Logo.png
END:VEVENT
BEGIN:VEVENT
DTSTART;TZID=America/New_York:20280621T183000
DTEND;TZID=America/New_York:20280621T194500
DTSTAMP:20260425T142338
CREATED:20250926T155053Z
LAST-MODIFIED:20250926T155053Z
UID:10000943-1845225000-1845229500@massgop.com
SUMMARY:Longmeadow Republican Town Committee Monthly Meeting
DESCRIPTION:The Longmeadow Republican Town Committee holds its regular monthly meeting to discuss community issues\, upcoming events\, and opportunities to get involved in local civic life. Meetings are open to registered Republicans and interested residents. \nResidents are welcome to attend\, share ideas\, and learn more about how the committee supports civic engagement in Longmeadow. \nRepublican Town Committee \nLongmeadow\n“Liberty Lives Here.”
URL:https://massgop.com/event/longmeadow-republican-town-committee-monthly-meeting/2028-06-21/
ATTACH;FMTTYPE=image/png:https://massgop.com/wp-content/uploads/2025/09/LRTC-Logo.png
END:VEVENT
BEGIN:VEVENT
DTSTART;TZID=America/New_York:20280719T183000
DTEND;TZID=America/New_York:20280719T194500
DTSTAMP:20260425T142338
CREATED:20250926T155053Z
LAST-MODIFIED:20250926T155053Z
UID:10000944-1847644200-1847648700@massgop.com
SUMMARY:Longmeadow Republican Town Committee Monthly Meeting
DESCRIPTION:The Longmeadow Republican Town Committee holds its regular monthly meeting to discuss community issues\, upcoming events\, and opportunities to get involved in local civic life. Meetings are open to registered Republicans and interested residents. \nResidents are welcome to attend\, share ideas\, and learn more about how the committee supports civic engagement in Longmeadow. \nRepublican Town Committee \nLongmeadow\n“Liberty Lives Here.”
URL:https://massgop.com/event/longmeadow-republican-town-committee-monthly-meeting/2028-07-19/
ATTACH;FMTTYPE=image/png:https://massgop.com/wp-content/uploads/2025/09/LRTC-Logo.png
END:VEVENT
BEGIN:VEVENT
DTSTART;TZID=America/New_York:20280816T183000
DTEND;TZID=America/New_York:20280816T194500
DTSTAMP:20260425T142338
CREATED:20250926T155053Z
LAST-MODIFIED:20250926T155053Z
UID:10000945-1850063400-1850067900@massgop.com
SUMMARY:Longmeadow Republican Town Committee Monthly Meeting
DESCRIPTION:The Longmeadow Republican Town Committee holds its regular monthly meeting to discuss community issues\, upcoming events\, and opportunities to get involved in local civic life. Meetings are open to registered Republicans and interested residents. \nResidents are welcome to attend\, share ideas\, and learn more about how the committee supports civic engagement in Longmeadow. \nRepublican Town Committee \nLongmeadow\n“Liberty Lives Here.”
URL:https://massgop.com/event/longmeadow-republican-town-committee-monthly-meeting/2028-08-16/
ATTACH;FMTTYPE=image/png:https://massgop.com/wp-content/uploads/2025/09/LRTC-Logo.png
END:VEVENT
BEGIN:VEVENT
DTSTART;TZID=America/New_York:20280920T183000
DTEND;TZID=America/New_York:20280920T194500
DTSTAMP:20260425T142338
CREATED:20250926T155053Z
LAST-MODIFIED:20250926T155053Z
UID:10000946-1853087400-1853091900@massgop.com
SUMMARY:Longmeadow Republican Town Committee Monthly Meeting
DESCRIPTION:The Longmeadow Republican Town Committee holds its regular monthly meeting to discuss community issues\, upcoming events\, and opportunities to get involved in local civic life. Meetings are open to registered Republicans and interested residents. \nResidents are welcome to attend\, share ideas\, and learn more about how the committee supports civic engagement in Longmeadow. \nRepublican Town Committee \nLongmeadow\n“Liberty Lives Here.”
URL:https://massgop.com/event/longmeadow-republican-town-committee-monthly-meeting/2028-09-20/
ATTACH;FMTTYPE=image/png:https://massgop.com/wp-content/uploads/2025/09/LRTC-Logo.png
END:VEVENT
BEGIN:VEVENT
DTSTART;TZID=America/New_York:20281018T183000
DTEND;TZID=America/New_York:20281018T194500
DTSTAMP:20260425T142338
CREATED:20250926T155053Z
LAST-MODIFIED:20250926T155053Z
UID:10000947-1855506600-1855511100@massgop.com
SUMMARY:Longmeadow Republican Town Committee Monthly Meeting
DESCRIPTION:The Longmeadow Republican Town Committee holds its regular monthly meeting to discuss community issues\, upcoming events\, and opportunities to get involved in local civic life. Meetings are open to registered Republicans and interested residents. \nResidents are welcome to attend\, share ideas\, and learn more about how the committee supports civic engagement in Longmeadow. \nRepublican Town Committee \nLongmeadow\n“Liberty Lives Here.”
URL:https://massgop.com/event/longmeadow-republican-town-committee-monthly-meeting/2028-10-18/
ATTACH;FMTTYPE=image/png:https://massgop.com/wp-content/uploads/2025/09/LRTC-Logo.png
END:VEVENT
END:VCALENDAR